BEGIN:VCALENDAR
VERSION:2.0
PRODID:-//Tukios.com/
BEGIN:VEVENT
UID:c78b6a1e-9821-4b0d-87b2-46e34d0da241@bayonne.stellatofuneralhomes.com
DTSTAMP:20260421T111344Z
DTSTART:20260424T161500Z
DTEND:20260424T171500Z
SUMMARY:Graveside Service
DESCRIPTION:
URL:https://bayonne.stellatofuneralhomes.com/obituaries/deborah-grysko
LOCATION:Holy Cross Cemetery & Mausoleum 340 Ridge Road  North Arlington 
	NJ 07031
GEO:40.791625;-74.1301055
END:VEVENT
END:VCALENDAR