BEGIN:VCALENDAR
VERSION:2.0
PRODID:-//Tukios.com/
BEGIN:VEVENT
UID:6ffbe60a-8385-4788-a696-176e35ce9f10@bayonne.stellatofuneralhomes.com
DTSTAMP:20260421T111525Z
DTSTART:20260423T180000Z
DTEND:20260423T210000Z
SUMMARY:Visitation
DESCRIPTION:
URL:https://bayonne.stellatofuneralhomes.com/obituaries/deborah-grysko
LOCATION:Caiola-Stellato Funeral Home  691 Avenue C  Bayonne NJ 07002
GEO:40.6712021;-74.1157963
END:VEVENT
END:VCALENDAR