BEGIN:VCALENDAR
VERSION:2.0
PRODID:-//Tukios.com/
BEGIN:VEVENT
UID:797495a5-3a9b-43b8-a2b0-871a0721736e@bayonne.stellatofuneralhomes.com
DTSTAMP:20260421T110715Z
DTSTART:20260424T143000Z
DTEND:20260424T153000Z
SUMMARY:Mass
DESCRIPTION:
URL:https://bayonne.stellatofuneralhomes.com/obituaries/deborah-grysko
LOCATION:St. John Paul II RC Parish 39 E 22nd Street  Bayonne NJ 07002
GEO:40.6626258;-74.1171335
END:VEVENT
END:VCALENDAR